BEGIN:VCALENDAR
VERSION:2.0
PRODID:-//Cabarrus Arts Council - ECPv6.15.12.2//NONSGML v1.0//EN
CALSCALE:GREGORIAN
METHOD:PUBLISH
X-WR-CALNAME:Cabarrus Arts Council
X-ORIGINAL-URL:https://cabarrusartscouncil.org
X-WR-CALDESC:Events for Cabarrus Arts Council
REFRESH-INTERVAL;VALUE=DURATION:PT1H
X-Robots-Tag:noindex
X-PUBLISHED-TTL:PT1H
BEGIN:VTIMEZONE
TZID:America/New_York
BEGIN:DAYLIGHT
TZOFFSETFROM:-0500
TZOFFSETTO:-0400
TZNAME:EDT
DTSTART:20250309T070000
END:DAYLIGHT
BEGIN:STANDARD
TZOFFSETFROM:-0400
TZOFFSETTO:-0500
TZNAME:EST
DTSTART:20251102T060000
END:STANDARD
BEGIN:DAYLIGHT
TZOFFSETFROM:-0500
TZOFFSETTO:-0400
TZNAME:EDT
DTSTART:20260308T070000
END:DAYLIGHT
BEGIN:STANDARD
TZOFFSETFROM:-0400
TZOFFSETTO:-0500
TZNAME:EST
DTSTART:20261101T060000
END:STANDARD
BEGIN:DAYLIGHT
TZOFFSETFROM:-0500
TZOFFSETTO:-0400
TZNAME:EDT
DTSTART:20270314T070000
END:DAYLIGHT
BEGIN:STANDARD
TZOFFSETFROM:-0400
TZOFFSETTO:-0500
TZNAME:EST
DTSTART:20271107T060000
END:STANDARD
END:VTIMEZONE
BEGIN:VEVENT
DTSTART;TZID=America/New_York:20260421T163000
DTEND;TZID=America/New_York:20260421T183000
DTSTAMP:20260421T215328
CREATED:20260320T164910Z
LAST-MODIFIED:20260320T164910Z
UID:6198-1776789000-1776796200@cabarrusartscouncil.org
SUMMARY:Peep-o-Rama Workshop at Harrisburg Library
DESCRIPTION:All Ages – Celebrate National Library Week by using marshmallow Peeps to create a diorama from Harry Peeper\, The Great Gats-Peep or other faves\, then compete to win a Peeple’s Choice Award. We provide the Peeps and basic supplies\, but bring a shoebox if you have an extra. Sponsored by Friends of Concord\, Harrisburg\, Kannapolis\, and Midland Libraries. No registration.
URL:https://cabarrusartscouncil.org/event/peep-o-rama-workshop-at-harrisburg-library/
LOCATION:Harrisburg Library\, 201 Sims Pkwy\, Harrisburg\, 28075\, United States
END:VEVENT
BEGIN:VEVENT
DTSTART;TZID=America/New_York:20260421T173000
DTEND;TZID=America/New_York:20260421T193000
DTSTAMP:20260421T215328
CREATED:20260401T192641Z
LAST-MODIFIED:20260402T164014Z
UID:6273-1776792600-1776799800@cabarrusartscouncil.org
SUMMARY:Crochet for Beginners (KAN)
DESCRIPTION:Ages 13+ – Are you interested in learning how to crochet? Join us for a three-week course where we meet once a week to learn basic crochet skills while making our first project. Attendees must come to the first meeting to continue course. Supplies and crochet kits will be provided by the Friends of Kannapolis Library. For more information\, please visit Events for March 2026 – Cabarrus County Public Library. 
URL:https://cabarrusartscouncil.org/event/crochet-for-beginners-kan/
LOCATION:Kannapolis Library\, 850 Mountain St\, Kannapolis\, NC\, 28081\, United States
CATEGORIES:Crafts,Library Activity
ATTACH;FMTTYPE=image/png:https://cabarrusartscouncil.org/wp-content/uploads/2026/04/Art-in-the-DARK-17.png
END:VEVENT
END:VCALENDAR