BEGIN:VCALENDAR
VERSION:2.0
PRODID:-//Cabarrus Arts Council - ECPv6.15.12.2//NONSGML v1.0//EN
CALSCALE:GREGORIAN
METHOD:PUBLISH
X-ORIGINAL-URL:https://cabarrusartscouncil.org
X-WR-CALDESC:Events for Cabarrus Arts Council
REFRESH-INTERVAL;VALUE=DURATION:PT1H
X-Robots-Tag:noindex
X-PUBLISHED-TTL:PT1H
BEGIN:VTIMEZONE
TZID:America/New_York
BEGIN:DAYLIGHT
TZOFFSETFROM:-0500
TZOFFSETTO:-0400
TZNAME:EDT
DTSTART:20240310T070000
END:DAYLIGHT
BEGIN:STANDARD
TZOFFSETFROM:-0400
TZOFFSETTO:-0500
TZNAME:EST
DTSTART:20241103T060000
END:STANDARD
BEGIN:DAYLIGHT
TZOFFSETFROM:-0500
TZOFFSETTO:-0400
TZNAME:EDT
DTSTART:20250309T070000
END:DAYLIGHT
BEGIN:STANDARD
TZOFFSETFROM:-0400
TZOFFSETTO:-0500
TZNAME:EST
DTSTART:20251102T060000
END:STANDARD
BEGIN:DAYLIGHT
TZOFFSETFROM:-0500
TZOFFSETTO:-0400
TZNAME:EDT
DTSTART:20260308T070000
END:DAYLIGHT
BEGIN:STANDARD
TZOFFSETFROM:-0400
TZOFFSETTO:-0500
TZNAME:EST
DTSTART:20261101T060000
END:STANDARD
END:VTIMEZONE
BEGIN:VEVENT
DTSTART;TZID=America/New_York:20250412T110000
DTEND;TZID=America/New_York:20250412T160000
DTSTAMP:20260424T140451
CREATED:20250402T175723Z
LAST-MODIFIED:20250403T032038Z
UID:3719-1744455600-1744473600@cabarrusartscouncil.org
SUMMARY:Art Walk on Union
DESCRIPTION:Art Walk on Union is back on April 12th! Join us for a celebration of creativity\, community\, and connection. Art Walk on Union is sponsored by Eli Lilly and Company. \nTake a stroll through Downtown Concord\, where you can celebrate local creativity at our galleries\, stop by the local shops\, and shop all the vendors selling unique crafted items! There will also be a shuttle to and from ClearWater Arts Center & Studios to visit their galleries and artist studios. \n 
URL:https://cabarrusartscouncil.org/event/art-walk-on-union/
LOCATION:Downtown Concord\, 65 Union St S\, Concord\, NC\, 28025\, United States
CATEGORIES:Art Walk,CAC Art Walk,CAC Event
ATTACH;FMTTYPE=image/png:https://cabarrusartscouncil.org/wp-content/uploads/2025/04/Untitled-design.png
ORGANIZER;CN="Cabarrus Arts Council":MAILTO:info@cabarrusartscouncil.org
END:VEVENT
END:VCALENDAR