BEGIN:VCALENDAR
VERSION:2.0
PRODID:-//Cabarrus Arts Council - ECPv6.15.12.2//NONSGML v1.0//EN
CALSCALE:GREGORIAN
METHOD:PUBLISH
X-ORIGINAL-URL:https://cabarrusartscouncil.org
X-WR-CALDESC:Events for Cabarrus Arts Council
REFRESH-INTERVAL;VALUE=DURATION:PT1H
X-Robots-Tag:noindex
X-PUBLISHED-TTL:PT1H
BEGIN:VTIMEZONE
TZID:America/New_York
BEGIN:DAYLIGHT
TZOFFSETFROM:-0500
TZOFFSETTO:-0400
TZNAME:EDT
DTSTART:20240310T070000
END:DAYLIGHT
BEGIN:STANDARD
TZOFFSETFROM:-0400
TZOFFSETTO:-0500
TZNAME:EST
DTSTART:20241103T060000
END:STANDARD
BEGIN:DAYLIGHT
TZOFFSETFROM:-0500
TZOFFSETTO:-0400
TZNAME:EDT
DTSTART:20250309T070000
END:DAYLIGHT
BEGIN:STANDARD
TZOFFSETFROM:-0400
TZOFFSETTO:-0500
TZNAME:EST
DTSTART:20251102T060000
END:STANDARD
BEGIN:DAYLIGHT
TZOFFSETFROM:-0500
TZOFFSETTO:-0400
TZNAME:EDT
DTSTART:20260308T070000
END:DAYLIGHT
BEGIN:STANDARD
TZOFFSETFROM:-0400
TZOFFSETTO:-0500
TZNAME:EST
DTSTART:20261101T060000
END:STANDARD
END:VTIMEZONE
BEGIN:VEVENT
DTSTART;TZID=America/New_York:20251004T193000
DTEND;TZID=America/New_York:20251004T213000
DTSTAMP:20260419T191945
CREATED:20250716T134235Z
LAST-MODIFIED:20250716T134235Z
UID:4835-1759606200-1759613400@cabarrusartscouncil.org
SUMMARY:"Some Enchanted Evening" with Jane Monheit and the Christian Tamburr Trio
DESCRIPTION:Internationally acclaimed jazz vocalist Jane Monheit brings her soaring voice and impeccable phrasing to a night of Rodgers and Hammerstein and Great American Songbook Classics. Joined by pianist Christian Tamburr and his trio\, Monheit delivers elegance\, emotion\, and timeless melodies.
URL:https://cabarrusartscouncil.org/event/some-enchanted-evening-with-jane-monheit-and-the-christian-tamburr-trio/
LOCATION:Davis Theatre\, 65 Union St S\, Concord\, NC\, 28025\, United States
CATEGORIES:CAC Event,Live Performance
ATTACH;FMTTYPE=image/png:https://cabarrusartscouncil.org/wp-content/uploads/2025/07/SomeEnchantedEvening-JMonheit.png
ORGANIZER;CN="Cabarrus Arts Council":MAILTO:info@cabarrusartscouncil.org
END:VEVENT
BEGIN:VEVENT
DTSTART;TZID=America/New_York:20251024T170000
DTEND;TZID=America/New_York:20251024T190000
DTSTAMP:20260419T191945
CREATED:20250923T150535Z
LAST-MODIFIED:20250923T150643Z
UID:5235-1761325200-1761332400@cabarrusartscouncil.org
SUMMARY:CLAY Opening Reception
DESCRIPTION:Join us at the Cabarrus Arts Council for the opening reception of our annual CLAY exhibition featuring ceramic pieces from regional artists. Exhibition on display in the Galleries at the Cabarrus Arts Council from October 24 through January 10.
URL:https://cabarrusartscouncil.org/event/clay-opening-reception/
LOCATION:Cabarrus Arts Council\, 65 Union St S\, Concord\, NC\, 28025\, United States
CATEGORIES:CAC Event,Gallery Activities
ATTACH;FMTTYPE=image/png:https://cabarrusartscouncil.org/wp-content/uploads/2025/09/2025.09_Clay-Exhibition-Website-Heading.png
ORGANIZER;CN="Cabarrus Arts Council":MAILTO:info@cabarrusartscouncil.org
END:VEVENT
BEGIN:VEVENT
DTSTART;TZID=America/New_York:20251030T110000
DTEND;TZID=America/New_York:20251030T120000
DTSTAMP:20260419T191945
CREATED:20251010T181527Z
LAST-MODIFIED:20251010T181527Z
UID:5391-1761822000-1761825600@cabarrusartscouncil.org
SUMMARY:Clay Exhibition Orientation
DESCRIPTION:The Cabarrus Arts Council’s Annual Clay Exhibition has finally arrived! Join us for morning refreshments in The Galleries while we explore the works of 18 different ceramicists.
URL:https://cabarrusartscouncil.org/event/clay-exhibition-orientation/
LOCATION:The Galleries\, 65 Union St S\, Concord\, NC\, 28025\, United States
CATEGORIES:CAC Event
ATTACH;FMTTYPE=image/jpeg:https://cabarrusartscouncil.org/wp-content/uploads/2025/10/2025-2026-.jpg
ORGANIZER;CN="Cabarrus Arts Council":MAILTO:info@cabarrusartscouncil.org
END:VEVENT
END:VCALENDAR