BEGIN:VCALENDAR
VERSION:2.0
PRODID:-//Cabarrus Arts Council - ECPv6.15.12.2//NONSGML v1.0//EN
CALSCALE:GREGORIAN
METHOD:PUBLISH
X-WR-CALNAME:Cabarrus Arts Council
X-ORIGINAL-URL:https://cabarrusartscouncil.org
X-WR-CALDESC:Events for Cabarrus Arts Council
REFRESH-INTERVAL;VALUE=DURATION:PT1H
X-Robots-Tag:noindex
X-PUBLISHED-TTL:PT1H
BEGIN:VTIMEZONE
TZID:America/New_York
BEGIN:DAYLIGHT
TZOFFSETFROM:-0500
TZOFFSETTO:-0400
TZNAME:EDT
DTSTART:20250309T070000
END:DAYLIGHT
BEGIN:STANDARD
TZOFFSETFROM:-0400
TZOFFSETTO:-0500
TZNAME:EST
DTSTART:20251102T060000
END:STANDARD
BEGIN:DAYLIGHT
TZOFFSETFROM:-0500
TZOFFSETTO:-0400
TZNAME:EDT
DTSTART:20260308T070000
END:DAYLIGHT
BEGIN:STANDARD
TZOFFSETFROM:-0400
TZOFFSETTO:-0500
TZNAME:EST
DTSTART:20261101T060000
END:STANDARD
BEGIN:DAYLIGHT
TZOFFSETFROM:-0500
TZOFFSETTO:-0400
TZNAME:EDT
DTSTART:20270314T070000
END:DAYLIGHT
BEGIN:STANDARD
TZOFFSETFROM:-0400
TZOFFSETTO:-0500
TZNAME:EST
DTSTART:20271107T060000
END:STANDARD
END:VTIMEZONE
BEGIN:VEVENT
DTSTART;TZID=America/New_York:20260130T170000
DTEND;TZID=America/New_York:20260130T190000
DTSTAMP:20260419T132120
CREATED:20250923T182640Z
LAST-MODIFIED:20251211T162846Z
UID:5284-1769792400-1769799600@cabarrusartscouncil.org
SUMMARY:United in Art Opening Reception
DESCRIPTION:Join us in the Galleries for the opening reception of United in Art! Founded in 1970 by seven local artists\, the Cabarrus Art Guild has grown to more than 100 members representing a wide range of mediums\, from painting and sculpture to fiber arts\, glass\, and weaving. Based in the historic Clearwater Gallery and Studios\, the Guild fosters creativity and community through workshops\, demonstrations\, and exhibitions. This show celebrates the diversity and talent of artists from Cabarrus and surrounding counties\, inviting visitors to explore original works and connect with the thriving local arts scene. Exhibition open January 30 – February 28\, 2026. For more information please visit www.cabarrusartscouncil.org.
URL:https://cabarrusartscouncil.org/event/united-in-art-opening-reception/
LOCATION:Cabarrus Arts Council\, 65 Union St S\, Concord\, NC\, 28025\, United States
CATEGORIES:CAC Event,Gallery Activities
ATTACH;FMTTYPE=image/png:https://cabarrusartscouncil.org/wp-content/uploads/2025/09/Exhibition-Website-Heading.png
ORGANIZER;CN="Cabarrus Arts Council":MAILTO:info@cabarrusartscouncil.org
END:VEVENT
BEGIN:VEVENT
DTSTART;TZID=America/New_York:20260130T193000
DTEND;TZID=America/New_York:20260130T213000
DTSTAMP:20260419T132120
CREATED:20250716T140814Z
LAST-MODIFIED:20250716T140854Z
UID:4841-1769801400-1769808600@cabarrusartscouncil.org
SUMMARY:Broadway in Love
DESCRIPTION:Real-life Broadway couple Libby Servais (Glinda- Wicked) and Stephan Stubbins (Mary Poppins) dazzle with show-stopping songs\, humor\, and heart. Featuring hits from Phantom of the Opera\, Frozen\, Jersey Boys\, and more\, this romantic concert brings the magic of Broadway to the stage.
URL:https://cabarrusartscouncil.org/event/broadway-in-love/
LOCATION:Davis Theatre\, 65 Union St S\, Concord\, NC\, 28025\, United States
CATEGORIES:CAC Event,Live Performance
ATTACH;FMTTYPE=image/png:https://cabarrusartscouncil.org/wp-content/uploads/2025/07/Broadway-in-Love2025.png
ORGANIZER;CN="Cabarrus Arts Council":MAILTO:info@cabarrusartscouncil.org
END:VEVENT
END:VCALENDAR