BEGIN:VCALENDAR
VERSION:2.0
PRODID:-//Cabarrus Arts Council - ECPv6.15.12.2//NONSGML v1.0//EN
CALSCALE:GREGORIAN
METHOD:PUBLISH
X-WR-CALNAME:Cabarrus Arts Council
X-ORIGINAL-URL:https://cabarrusartscouncil.org
X-WR-CALDESC:Events for Cabarrus Arts Council
REFRESH-INTERVAL;VALUE=DURATION:PT1H
X-Robots-Tag:noindex
X-PUBLISHED-TTL:PT1H
BEGIN:VTIMEZONE
TZID:America/New_York
BEGIN:DAYLIGHT
TZOFFSETFROM:-0500
TZOFFSETTO:-0400
TZNAME:EDT
DTSTART:20250309T070000
END:DAYLIGHT
BEGIN:STANDARD
TZOFFSETFROM:-0400
TZOFFSETTO:-0500
TZNAME:EST
DTSTART:20251102T060000
END:STANDARD
BEGIN:DAYLIGHT
TZOFFSETFROM:-0500
TZOFFSETTO:-0400
TZNAME:EDT
DTSTART:20260308T070000
END:DAYLIGHT
BEGIN:STANDARD
TZOFFSETFROM:-0400
TZOFFSETTO:-0500
TZNAME:EST
DTSTART:20261101T060000
END:STANDARD
BEGIN:DAYLIGHT
TZOFFSETFROM:-0500
TZOFFSETTO:-0400
TZNAME:EDT
DTSTART:20270314T070000
END:DAYLIGHT
BEGIN:STANDARD
TZOFFSETFROM:-0400
TZOFFSETTO:-0500
TZNAME:EST
DTSTART:20271107T060000
END:STANDARD
END:VTIMEZONE
BEGIN:VEVENT
DTSTART;TZID=America/New_York:20260207T120000
DTEND;TZID=America/New_York:20260207T143000
DTSTAMP:20260419T113956
CREATED:20250930T161625Z
LAST-MODIFIED:20260115T165002Z
UID:5312-1770465600-1770474600@cabarrusartscouncil.org
SUMMARY:Family Day
DESCRIPTION:Have you or a small human in your life ever wanted to perform on the Davis Theatre stage? This is your chance! Join us on February 7 for an afternoon of karaoke fun for all ages. Our facilitators for the afternoon will be Treva and Cory from Wizards of Sound. Treva is a professional vocal coach and will be on hand to help support an encourage all of our singers. Song selections will be family-friendly!  Craft time begins at noon in the Galleries\, and our karaoke time will start at 1pm in the Davis Theatre. Please register to let us know you are coming! See you there!
URL:https://cabarrusartscouncil.org/event/family-day-3/
LOCATION:Cabarrus Arts Council\, 65 Union St S\, Concord\, NC\, 28025\, United States
CATEGORIES:CAC Event,Crafts,Family Days,Gallery Activities,Live Performance
ATTACH;FMTTYPE=image/jpeg:https://cabarrusartscouncil.org/wp-content/uploads/2025/09/Family-Day.jpg
END:VEVENT
BEGIN:VEVENT
DTSTART;TZID=America/New_York:20260213T193000
DTEND;TZID=America/New_York:20260213T213000
DTSTAMP:20260419T113956
CREATED:20250716T142430Z
LAST-MODIFIED:20250716T142442Z
UID:4843-1771011000-1771018200@cabarrusartscouncil.org
SUMMARY:Born to Swing
DESCRIPTION:This dynamic jazz musical tells the story of pioneering pianist Lillette Jenkins-Wisner\, whose 85-year career spanned clubs\, USO tours\, and the Broadway stage. With vibrant choreography\, live jazz\, and stunning visuals\, Born to Swing celebrates an icon of American music.
URL:https://cabarrusartscouncil.org/event/born-to-swing/
LOCATION:Davis Theatre\, 65 Union St S\, Concord\, NC\, 28025\, United States
CATEGORIES:CAC Event,Live Performance
ATTACH;FMTTYPE=image/png:https://cabarrusartscouncil.org/wp-content/uploads/2025/07/Born-to-Swing2025.png
ORGANIZER;CN="Cabarrus Arts Council":MAILTO:info@cabarrusartscouncil.org
END:VEVENT
BEGIN:VEVENT
DTSTART;TZID=America/New_York:20260226T170000
DTEND;TZID=America/New_York:20260226T193000
DTSTAMP:20260419T113956
CREATED:20251217T215716Z
LAST-MODIFIED:20251217T215814Z
UID:5791-1772125200-1772134200@cabarrusartscouncil.org
SUMMARY:Creatives Mixer
DESCRIPTION:Calling all Cabarrus County artists\, writers\, performers\, filmmakers\, and arts leaders! Mark your calendars for our next Creatives Mixer on Thursday\, February 26\, 5–7pm at the Cabarrus Arts Council. \nThis free event is your chance to connect with fellow creatives\, hear about upcoming opportunities\, and enjoy the exhibition currently on view. Drinks will be available for purchase. \nPlease register at the link below!
URL:https://cabarrusartscouncil.org/event/creatives-mixer/
LOCATION:Cabarrus Arts Council\, 65 Union St S\, Concord\, NC\, 28025\, United States
CATEGORIES:CAC Event
ATTACH;FMTTYPE=image/jpeg:https://cabarrusartscouncil.org/wp-content/uploads/2025/12/Creatives-Mixer-Website-Banner_FINAL.jpg
END:VEVENT
BEGIN:VEVENT
DTSTART;TZID=America/New_York:20260227T193000
DTEND;TZID=America/New_York:20260227T213000
DTSTAMP:20260419T113956
CREATED:20250716T142650Z
LAST-MODIFIED:20251217T160244Z
UID:4845-1772220600-1772227800@cabarrusartscouncil.org
SUMMARY:Dom Flemons
DESCRIPTION:GRAMMY-winning musician\, historian\, and storyteller Dom Flemons brings to life 100+ years of American roots music with banjo\, bones\, and deep soul. A founding member of the Carolina Chocolate Drops\, he delivers a rich\, rollicking journey through folk\, blues\, country\, and beyond.
URL:https://cabarrusartscouncil.org/event/dom-flemmons/
LOCATION:Cabarrus Arts Council\, 65 Union St S\, Concord\, NC\, 28025\, United States
CATEGORIES:CAC Event,Live Performance
ATTACH;FMTTYPE=image/png:https://cabarrusartscouncil.org/wp-content/uploads/2025/07/Dom-Flemons2025.png
ORGANIZER;CN="Cabarrus Arts Council":MAILTO:info@cabarrusartscouncil.org
END:VEVENT
BEGIN:VEVENT
DTSTART;TZID=America/New_York:20260228T110000
DTEND;TZID=America/New_York:20260228T130000
DTSTAMP:20260419T113956
CREATED:20251113T182214Z
LAST-MODIFIED:20260123T193505Z
UID:5619-1772276400-1772283600@cabarrusartscouncil.org
SUMMARY:Volunteer Opportunity Drop-in
DESCRIPTION:Calling all art enthusiasts and community heroes!  Join us at the Cabarrus Arts Council Volunteer Opportunity Drop in Fair on Saturday\, Feb 28th\, from 11 a.m. to 1 p.m. Make new friends and learn more about the inner workings of our organization by becoming an arts council volunteer. Our volunteers are essential members of the arts council team\, and we are always pleased to see new faces! \n\nRegister by emailing info@cabarrusartscouncil.org\n\n\nLocation: 65 Union Street South.
URL:https://cabarrusartscouncil.org/event/volunteer-opportunity-drop-in/
LOCATION:NC
CATEGORIES:CAC Event
ATTACH;FMTTYPE=image/png:https://cabarrusartscouncil.org/wp-content/uploads/2025/11/volunteer-opp-.png
ORGANIZER;CN="Cabarrus Arts Council":MAILTO:info@cabarrusartscouncil.org
END:VEVENT
END:VCALENDAR