BEGIN:VCALENDAR
VERSION:2.0
PRODID:-//Cabarrus Arts Council - ECPv6.15.12.2//NONSGML v1.0//EN
CALSCALE:GREGORIAN
METHOD:PUBLISH
X-ORIGINAL-URL:https://cabarrusartscouncil.org
X-WR-CALDESC:Events for Cabarrus Arts Council
REFRESH-INTERVAL;VALUE=DURATION:PT1H
X-Robots-Tag:noindex
X-PUBLISHED-TTL:PT1H
BEGIN:VTIMEZONE
TZID:America/New_York
BEGIN:DAYLIGHT
TZOFFSETFROM:-0500
TZOFFSETTO:-0400
TZNAME:EDT
DTSTART:20250309T070000
END:DAYLIGHT
BEGIN:STANDARD
TZOFFSETFROM:-0400
TZOFFSETTO:-0500
TZNAME:EST
DTSTART:20251102T060000
END:STANDARD
BEGIN:DAYLIGHT
TZOFFSETFROM:-0500
TZOFFSETTO:-0400
TZNAME:EDT
DTSTART:20260308T070000
END:DAYLIGHT
BEGIN:STANDARD
TZOFFSETFROM:-0400
TZOFFSETTO:-0500
TZNAME:EST
DTSTART:20261101T060000
END:STANDARD
BEGIN:DAYLIGHT
TZOFFSETFROM:-0500
TZOFFSETTO:-0400
TZNAME:EDT
DTSTART:20270314T070000
END:DAYLIGHT
BEGIN:STANDARD
TZOFFSETFROM:-0400
TZOFFSETTO:-0500
TZNAME:EST
DTSTART:20271107T060000
END:STANDARD
END:VTIMEZONE
BEGIN:VEVENT
DTSTART;TZID=America/New_York:20260401T163000
DTEND;TZID=America/New_York:20260401T173000
DTSTAMP:20260419T210630
CREATED:20251014T161748Z
LAST-MODIFIED:20260122T190102Z
UID:5419-1775061000-1775064600@cabarrusartscouncil.org
SUMMARY:Art on the Go: Learn to Make Cyanotypes (Kids)
DESCRIPTION:The Cyanotype is one of the earliest forms of photography\, which uses only light-sensitive paper (or fabric) and sunlight. Participants will receive a fun\, hands-on approach to understanding what light can do and creating their own individual cyanotype. The product will be a blue and white print using a variety of objects to create the shapes as the subjects. No experience is necessary. All materials included. \nClick here to find and register for the Art on the Go you’d like to attend. If registration isn’t available yet\, it’s coming soon!
URL:https://cabarrusartscouncil.org/event/art-on-the-go-learn-to-make-cyanotypes-kids/
LOCATION:Mount Pleasant Library\, 1111 Washington St\, Mt Pleasant\, 28124\, United States
CATEGORIES:Art on the Go,CAC Classes,CAC Event
ATTACH;FMTTYPE=image/png:https://cabarrusartscouncil.org/wp-content/uploads/2025/04/Website-Events-Calendar-Featured-Images-3.png
ORGANIZER;CN="Cabarrus Arts Council":MAILTO:info@cabarrusartscouncil.org
END:VEVENT
BEGIN:VEVENT
DTSTART;TZID=America/New_York:20260402T163000
DTEND;TZID=America/New_York:20260402T173000
DTSTAMP:20260419T210630
CREATED:20251014T161945Z
LAST-MODIFIED:20260122T190501Z
UID:5422-1775147400-1775151000@cabarrusartscouncil.org
SUMMARY:Art on the Go: Learn to Make Cyanotypes (Kids)
DESCRIPTION:The Cyanotype is one of the earliest forms of photography\, which uses only light-sensitive paper (or fabric) and sunlight. Participants will receive a fun\, hands-on approach to understanding what light can do and creating their own individual cyanotype. The product will be a blue and white print using a variety of objects to create the shapes as the subjects. No experience is necessary. All materials included. \nClick here to find and register for the Art on the Go you’d like to attend. If registration isn’t available yet\, it’s coming soon!
URL:https://cabarrusartscouncil.org/event/art-on-the-go-learn-to-make-cyanotypes-kids-2/
LOCATION:Concord Library\, 27 Union St N\, Concord\, Concord\, NC\, 28025\, United States
CATEGORIES:Art on the Go,CAC Classes,CAC Event
ATTACH;FMTTYPE=image/png:https://cabarrusartscouncil.org/wp-content/uploads/2025/04/Website-Events-Calendar-Featured-Images-3.png
END:VEVENT
BEGIN:VEVENT
DTSTART;TZID=America/New_York:20260406T163000
DTEND;TZID=America/New_York:20260406T173000
DTSTAMP:20260419T210630
CREATED:20251014T163539Z
LAST-MODIFIED:20260122T190536Z
UID:5425-1775493000-1775496600@cabarrusartscouncil.org
SUMMARY:Art on the Go: Learn to Make Cyanotypes (Kids)
DESCRIPTION:The Cyanotype is one of the earliest forms of photography\, which uses only light-sensitive paper (or fabric) and sunlight. Participants will receive a fun\, hands-on approach to understanding what light can do and creating their own individual cyanotype. The product will be a blue and white print using a variety of objects to create the shapes as the subjects. No experience is necessary. All materials included. \nClick here to find and register for the Art on the Go you’d like to attend. If registration isn’t available yet\, it’s coming soon!
URL:https://cabarrusartscouncil.org/event/art-on-the-go-learn-to-make-cyanotypes-kids-3/
LOCATION:Midland Library\, 4297 NC-24 27 C\, Midland\, NC\, 28107\, United States
CATEGORIES:Art on the Go,CAC Classes,CAC Event
ATTACH;FMTTYPE=image/png:https://cabarrusartscouncil.org/wp-content/uploads/2025/04/Website-Events-Calendar-Featured-Images-3.png
END:VEVENT
BEGIN:VEVENT
DTSTART;TZID=America/New_York:20260407T163000
DTEND;TZID=America/New_York:20260407T173000
DTSTAMP:20260419T210630
CREATED:20251014T163825Z
LAST-MODIFIED:20260122T190636Z
UID:5427-1775579400-1775583000@cabarrusartscouncil.org
SUMMARY:Art on the Go: Learn to Make Cyanotypes (Kids)
DESCRIPTION:The Cyanotype is one of the earliest forms of photography\, which uses only light-sensitive paper (or fabric) and sunlight. Participants will receive a fun\, hands-on approach to understanding what light can do and creating their own individual cyanotype. The product will be a blue and white print using a variety of objects to create the shapes as the subjects. No experience is necessary. All materials included. \nClick here to find and register for the Art on the Go you’d like to attend. If registration isn’t available yet\, it’s coming soon!
URL:https://cabarrusartscouncil.org/event/art-on-the-go-learn-to-make-cyanotypes-kids-4/
LOCATION:Afton Ridge Library\, 6095 Glen Afton Boulevard\, Kannapolis\, NC\, 28027\, United States
CATEGORIES:Art on the Go,CAC Classes,CAC Event
ATTACH;FMTTYPE=image/png:https://cabarrusartscouncil.org/wp-content/uploads/2025/04/Website-Events-Calendar-Featured-Images-3.png
END:VEVENT
BEGIN:VEVENT
DTSTART;TZID=America/New_York:20260408T163000
DTEND;TZID=America/New_York:20260408T173000
DTSTAMP:20260419T210630
CREATED:20251014T164038Z
LAST-MODIFIED:20260122T190705Z
UID:5429-1775665800-1775669400@cabarrusartscouncil.org
SUMMARY:Art on the Go: Learn to Make Cyanotypes (Kids)
DESCRIPTION:The Cyanotype is one of the earliest forms of photography\, which uses only light-sensitive paper (or fabric) and sunlight. Participants will receive a fun\, hands-on approach to understanding what light can do and creating their own individual cyanotype. The product will be a blue and white print using a variety of objects to create the shapes as the subjects. No experience is necessary. All materials included. \nClick here to find and register for the Art on the Go you’d like to attend. If registration isn’t available yet\, it’s coming soon!
URL:https://cabarrusartscouncil.org/event/art-on-the-go-learn-to-make-cyanotypes-kids-5/
LOCATION:Kannapolis Library\, 850 Mountain St\, Kannapolis\, NC\, 28081\, United States
CATEGORIES:Art on the Go,CAC Classes,CAC Event
ATTACH;FMTTYPE=image/png:https://cabarrusartscouncil.org/wp-content/uploads/2025/04/Website-Events-Calendar-Featured-Images-3.png
END:VEVENT
BEGIN:VEVENT
DTSTART;TZID=America/New_York:20260414T080000
DTEND;TZID=America/New_York:20260414T170000
DTSTAMP:20260419T210630
CREATED:20251014T164214Z
LAST-MODIFIED:20260122T190733Z
UID:5431-1776153600-1776186000@cabarrusartscouncil.org
SUMMARY:Art on the Go: Learn to Make Cyanotypes (Kids)
DESCRIPTION:The Cyanotype is one of the earliest forms of photography\, which uses only light-sensitive paper (or fabric) and sunlight. Participants will receive a fun\, hands-on approach to understanding what light can do and creating their own individual cyanotype. The product will be a blue and white print using a variety of objects to create the shapes as the subjects. No experience is necessary. All materials included. \nClick here to find and register for the Art on the Go you’d like to attend. If registration isn’t available yet\, it’s coming soon!
URL:https://cabarrusartscouncil.org/event/art-on-the-go-learn-to-make-cyanotypes-kids-6/
LOCATION:Harrisburg Library\, 201 Sims Pkwy\, Harrisburg\, 28075\, United States
CATEGORIES:Art on the Go,CAC Classes,CAC Event
ATTACH;FMTTYPE=image/png:https://cabarrusartscouncil.org/wp-content/uploads/2025/04/Website-Events-Calendar-Featured-Images-3.png
END:VEVENT
BEGIN:VEVENT
DTSTART;TZID=America/New_York:20260424T193000
DTEND;TZID=America/New_York:20260424T213000
DTSTAMP:20260419T210630
CREATED:20250716T143503Z
LAST-MODIFIED:20260128T214604Z
UID:4849-1777059000-1777066200@cabarrusartscouncil.org
SUMMARY:Motown and More
DESCRIPTION:Motown & More — Live at the Davis Theater! \nGet ready to sing\, dance\, and feel the groove as Motown and More takes you on a high-energy journey through the legendary music and rich history of Motown\, its influence on the culture\, and the legendary musicians– the Funk Brothers and iconic background singers that supported the groups we know! \nLed by Dawn Anthony\, this exciting ensemble brings together some of the region’s top musicians for a vibrant celebration of Hitsville USA and its unforgettable gift to the world. From soulful ballads to dance-floor classics\, this interactive show invites you to relive the timeless hits that defined generations—and still move us today.
URL:https://cabarrusartscouncil.org/event/motown-and-more/
LOCATION:Davis Theatre\, 65 Union St S\, Concord\, NC\, 28025\, United States
CATEGORIES:CAC Event,Live Performance
ATTACH;FMTTYPE=image/png:https://cabarrusartscouncil.org/wp-content/uploads/2025/07/Motown-and-More2026.png
ORGANIZER;CN="Cabarrus Arts Council":MAILTO:info@cabarrusartscouncil.org
END:VEVENT
BEGIN:VEVENT
DTSTART;TZID=America/New_York:20260430T180000
DTEND;TZID=America/New_York:20260430T200000
DTSTAMP:20260419T210630
CREATED:20260327T171448Z
LAST-MODIFIED:20260327T171448Z
UID:6238-1777572000-1777579200@cabarrusartscouncil.org
SUMMARY:Montage of the Still Frame with April Simmons
DESCRIPTION:In this 2-hour demonstration\, participants will join April Simmons to learn various mixed media techniques and processes. April will demonstrate how she builds out her composition in Photoshop and then moves to acrylics\, oils and the other mediums used to create her work. A materials resource list will be provided on the day of the demonstration. Enrollment is $60\, registration required.  To enroll in this workshop please click this link.
URL:https://cabarrusartscouncil.org/event/montage-of-the-still-frame-with-april-simmons/
LOCATION:Cabarrus Arts Council\, 65 Union St S\, Concord\, NC\, 28025\, United States
CATEGORIES:CAC Classes,CAC Event,Classes
ATTACH;FMTTYPE=image/jpeg:https://cabarrusartscouncil.org/wp-content/uploads/2026/03/April-Simmons-Workshop.jpeg
ORGANIZER;CN="Cabarrus Arts Council":MAILTO:info@cabarrusartscouncil.org
END:VEVENT
BEGIN:VEVENT
DTSTART;TZID=America/New_York:20260529T193000
DTEND;TZID=America/New_York:20260529T213000
DTSTAMP:20260419T210630
CREATED:20250716T143858Z
LAST-MODIFIED:20250716T144812Z
UID:4851-1780083000-1780090200@cabarrusartscouncil.org
SUMMARY:Rissi Palmer
DESCRIPTION:Trailblazing singer Rissi Palmer made country music history with her debut single “Country Girl” and continues to shine in both the Country and Americana scenes. From the Grand Ole Opry to The White House\, her powerful voice and presence have captivated audiences nationwide.
URL:https://cabarrusartscouncil.org/event/rissi-palmer/
LOCATION:Davis Theatre\, 65 Union St S\, Concord\, NC\, 28025\, United States
CATEGORIES:CAC Event,Live Performance
ATTACH;FMTTYPE=image/png:https://cabarrusartscouncil.org/wp-content/uploads/2025/07/Rissi-Palmer-2026.png
ORGANIZER;CN="Cabarrus Arts Council":MAILTO:info@cabarrusartscouncil.org
END:VEVENT
END:VCALENDAR