BEGIN:VCALENDAR
VERSION:2.0
PRODID:-//Cabarrus Arts Council - ECPv6.15.12.2//NONSGML v1.0//EN
CALSCALE:GREGORIAN
METHOD:PUBLISH
X-WR-CALNAME:Cabarrus Arts Council
X-ORIGINAL-URL:https://cabarrusartscouncil.org
X-WR-CALDESC:Events for Cabarrus Arts Council
REFRESH-INTERVAL;VALUE=DURATION:PT1H
X-Robots-Tag:noindex
X-PUBLISHED-TTL:PT1H
BEGIN:VTIMEZONE
TZID:America/New_York
BEGIN:DAYLIGHT
TZOFFSETFROM:-0500
TZOFFSETTO:-0400
TZNAME:EDT
DTSTART:20240310T070000
END:DAYLIGHT
BEGIN:STANDARD
TZOFFSETFROM:-0400
TZOFFSETTO:-0500
TZNAME:EST
DTSTART:20241103T060000
END:STANDARD
BEGIN:DAYLIGHT
TZOFFSETFROM:-0500
TZOFFSETTO:-0400
TZNAME:EDT
DTSTART:20250309T070000
END:DAYLIGHT
BEGIN:STANDARD
TZOFFSETFROM:-0400
TZOFFSETTO:-0500
TZNAME:EST
DTSTART:20251102T060000
END:STANDARD
BEGIN:DAYLIGHT
TZOFFSETFROM:-0500
TZOFFSETTO:-0400
TZNAME:EDT
DTSTART:20260308T070000
END:DAYLIGHT
BEGIN:STANDARD
TZOFFSETFROM:-0400
TZOFFSETTO:-0500
TZNAME:EST
DTSTART:20261101T060000
END:STANDARD
END:VTIMEZONE
BEGIN:VEVENT
DTSTART;TZID=America/New_York:20250225T163000
DTEND;TZID=America/New_York:20250225T170000
DTSTAMP:20260419T113913
CREATED:20250224T172409Z
LAST-MODIFIED:20250224T172901Z
UID:3419-1740501000-1740502800@cabarrusartscouncil.org
SUMMARY:DIY Earrings
DESCRIPTION:Esty? “Nah made them at the library” is going to be your response after making these DIY Earrings. Join us as we paint our own earrings using mini golden frames. Snacks and beverages will be provided. Snacks and drinks provided! Ages 12-17; FREE; No Registration Required; Mt. Pleasant Library & Active Living Center; 1111 N Washington Street; For more information\, visit www.cabarruscounty.us
URL:https://cabarrusartscouncil.org/event/diy-earrings/
LOCATION:Mount Pleasant Library & Active Living Center\, 1111 North Washington Street\, Mt. Pleasant\, NC\, 28124\, United States
CATEGORIES:Crafts,Library Activity
ATTACH;FMTTYPE=image/jpeg:https://cabarrusartscouncil.org/wp-content/uploads/2025/02/DIY-Earrirngs.jpg
END:VEVENT
END:VCALENDAR