BEGIN:VCALENDAR
VERSION:2.0
PRODID:-//Cabarrus Arts Council - ECPv6.15.12.2//NONSGML v1.0//EN
CALSCALE:GREGORIAN
METHOD:PUBLISH
X-WR-CALNAME:Cabarrus Arts Council
X-ORIGINAL-URL:https://cabarrusartscouncil.org
X-WR-CALDESC:Events for Cabarrus Arts Council
REFRESH-INTERVAL;VALUE=DURATION:PT1H
X-Robots-Tag:noindex
X-PUBLISHED-TTL:PT1H
BEGIN:VTIMEZONE
TZID:America/New_York
BEGIN:DAYLIGHT
TZOFFSETFROM:-0500
TZOFFSETTO:-0400
TZNAME:EDT
DTSTART:20240310T070000
END:DAYLIGHT
BEGIN:STANDARD
TZOFFSETFROM:-0400
TZOFFSETTO:-0500
TZNAME:EST
DTSTART:20241103T060000
END:STANDARD
BEGIN:DAYLIGHT
TZOFFSETFROM:-0500
TZOFFSETTO:-0400
TZNAME:EDT
DTSTART:20250309T070000
END:DAYLIGHT
BEGIN:STANDARD
TZOFFSETFROM:-0400
TZOFFSETTO:-0500
TZNAME:EST
DTSTART:20251102T060000
END:STANDARD
BEGIN:DAYLIGHT
TZOFFSETFROM:-0500
TZOFFSETTO:-0400
TZNAME:EDT
DTSTART:20260308T070000
END:DAYLIGHT
BEGIN:STANDARD
TZOFFSETFROM:-0400
TZOFFSETTO:-0500
TZNAME:EST
DTSTART:20261101T060000
END:STANDARD
END:VTIMEZONE
BEGIN:VEVENT
DTSTART;TZID=America/New_York:20250303T100000
DTEND;TZID=America/New_York:20250303T110000
DTSTAMP:20260419T095741
CREATED:20250224T173405Z
LAST-MODIFIED:20250224T173405Z
UID:3425-1740996000-1740999600@cabarrusartscouncil.org
SUMMARY:Coffee and Crafting
DESCRIPTION:Start your week off right\, with coffee and a craft at the Concord Library. This month’s craft we’ll create decoupage flower jars. Adults only; FREE; Registration Required; Concord Library; 27 Union Street N; For more information or to register\, visit www.cabarruscounty.us
URL:https://cabarrusartscouncil.org/event/coffee-and-crafting/
LOCATION:Concord Library\, 27 Union St N\, Concord\, Concord\, NC\, 28025\, United States
CATEGORIES:Crafts,Library Activity
ATTACH;FMTTYPE=image/jpeg:https://cabarrusartscouncil.org/wp-content/uploads/2025/02/coffee-crafting.jpg
ORGANIZER;CN="Karen Baker":MAILTO:kdbaker@cabarruscounty.us
END:VEVENT
BEGIN:VEVENT
DTSTART;TZID=America/New_York:20250305T163000
DTEND;TZID=America/New_York:20250305T173000
DTSTAMP:20260419T095741
CREATED:20250220T191622Z
LAST-MODIFIED:20250224T174331Z
UID:3360-1741192200-1741195800@cabarrusartscouncil.org
SUMMARY:Kid Krafters
DESCRIPTION:Spring break is coming up! Join us as we learn a few ‘boredom buster’ crafts that you can easily repeat yourself at home. Ages 6-11; FREE; No Registration Required; Concord Library; 27 Union Street N; For more information\, visit www.cabarruscounty.us
URL:https://cabarrusartscouncil.org/event/kid-krafters/
LOCATION:Concord Library\, 27 Union St N\, Concord\, Concord\, NC\, 28025\, United States
CATEGORIES:Crafts,Library Activity
ATTACH;FMTTYPE=image/jpeg:https://cabarrusartscouncil.org/wp-content/uploads/2025/02/34d86a447f175e4aa9075fb916c531e5.jpg
ORGANIZER;CN="Jessi Ellenburg":MAILTO:jhellenburg@cabarruscounty.us
END:VEVENT
BEGIN:VEVENT
DTSTART;TZID=America/New_York:20250308T160000
DTEND;TZID=America/New_York:20250308T170000
DTSTAMP:20260419T095741
CREATED:20250224T175348Z
LAST-MODIFIED:20250224T175348Z
UID:3438-1741449600-1741453200@cabarrusartscouncil.org
SUMMARY:Pointillism Art
DESCRIPTION:Spend a relaxing hour exploring and creating with the simple technique of pointillism. \nAges 13+; FREE; No Registration Required; Kannapolis Library; 850 Mountain St.; For more information\, visit www.cabarruscounty.us
URL:https://cabarrusartscouncil.org/event/pointillism-art/
LOCATION:Kannapolis Library\, 850 Mountain St\, Kannapolis\, NC\, 28081\, United States
CATEGORIES:Classes,Crafts,Library Activity
ATTACH;FMTTYPE=image/jpeg:https://cabarrusartscouncil.org/wp-content/uploads/2025/02/a0b130008e9a270b23b177ecd4b1873c.jpg
ORGANIZER;CN="Sarah Dutton":MAILTO:sedutton@cabarruscounty.us
END:VEVENT
BEGIN:VEVENT
DTSTART;TZID=America/New_York:20250318T180000
DTEND;TZID=America/New_York:20250318T190000
DTSTAMP:20260419T095741
CREATED:20250224T183917Z
LAST-MODIFIED:20250224T183917Z
UID:3472-1742320800-1742324400@cabarrusartscouncil.org
SUMMARY:Spring Felt Flowers
DESCRIPTION:Welcome in Spring by making a wall hanging with felt flowers! Adults; FREE; No Registration Required; Kannapolis Library; 850 Mountain St.; For more information\, visit www.cabarruscounty.us
URL:https://cabarrusartscouncil.org/event/spring-felt-flowers/
LOCATION:Kannapolis Library\, 850 Mountain St\, Kannapolis\, NC\, 28081\, United States
CATEGORIES:Crafts,Library Activity
ATTACH;FMTTYPE=image/jpeg:https://cabarrusartscouncil.org/wp-content/uploads/2025/02/1048ba34162b3c90685adba4e41ac2a3.jpg
ORGANIZER;CN="Carly Varnadore":MAILTO:clvarnadore@cabarruscounty.us
END:VEVENT
END:VCALENDAR