BEGIN:VCALENDAR
VERSION:2.0
PRODID:-//Cabarrus Arts Council - ECPv6.15.12.2//NONSGML v1.0//EN
CALSCALE:GREGORIAN
METHOD:PUBLISH
X-ORIGINAL-URL:https://cabarrusartscouncil.org
X-WR-CALDESC:Events for Cabarrus Arts Council
REFRESH-INTERVAL;VALUE=DURATION:PT1H
X-Robots-Tag:noindex
X-PUBLISHED-TTL:PT1H
BEGIN:VTIMEZONE
TZID:America/New_York
BEGIN:DAYLIGHT
TZOFFSETFROM:-0500
TZOFFSETTO:-0400
TZNAME:EDT
DTSTART:20240310T070000
END:DAYLIGHT
BEGIN:STANDARD
TZOFFSETFROM:-0400
TZOFFSETTO:-0500
TZNAME:EST
DTSTART:20241103T060000
END:STANDARD
BEGIN:DAYLIGHT
TZOFFSETFROM:-0500
TZOFFSETTO:-0400
TZNAME:EDT
DTSTART:20250309T070000
END:DAYLIGHT
BEGIN:STANDARD
TZOFFSETFROM:-0400
TZOFFSETTO:-0500
TZNAME:EST
DTSTART:20251102T060000
END:STANDARD
BEGIN:DAYLIGHT
TZOFFSETFROM:-0500
TZOFFSETTO:-0400
TZNAME:EDT
DTSTART:20260308T070000
END:DAYLIGHT
BEGIN:STANDARD
TZOFFSETFROM:-0400
TZOFFSETTO:-0500
TZNAME:EST
DTSTART:20261101T060000
END:STANDARD
END:VTIMEZONE
BEGIN:VEVENT
DTSTART;TZID=America/New_York:20250715T180000
DTEND;TZID=America/New_York:20250715T190000
DTSTAMP:20260424T045647
CREATED:20250703T173954Z
LAST-MODIFIED:20250703T173954Z
UID:4709-1752602400-1752606000@cabarrusartscouncil.org
SUMMARY:Women Artists We Should Know More About (AFT)
DESCRIPTION:Ages 6-11 – Come join us as we learn about some amazing women artists you might not have heard about! We’ll learn their stories and make some artwork inspired by them. No registration. www.cabarruscounty.us. 
URL:https://cabarrusartscouncil.org/event/women-artists-we-should-know-more-about-aft/
LOCATION:Afton Ridge Library\, 6095 Glen Afton Boulevard\, Kannapolis\, NC\, 28027\, United States
CATEGORIES:Library Activity
ATTACH;FMTTYPE=image/png:https://cabarrusartscouncil.org/wp-content/uploads/2025/06/Art-in-the-DARK-4.png
END:VEVENT
BEGIN:VEVENT
DTSTART;TZID=America/New_York:20250716T120000
DTEND;TZID=America/New_York:20250716T133000
DTSTAMP:20260424T045647
CREATED:20250731T143138Z
LAST-MODIFIED:20250731T143138Z
UID:4869-1752667200-1752672600@cabarrusartscouncil.org
SUMMARY:Make the Friendship Bracelets: August Edition (HAR)
DESCRIPTION:Join us for our annual friendship bracelet-making session\, inspired by Taylor Swift’s music\, lyrics\, and brand. We will provide prompts and examples to inspire creative bracelets. The proposed date of the program is inspired by Taylor Swift’s popular song “August\,” in which she references the passing of August and summer slowly coming to a close. *Registration required. Registration opens 2 weeks before the program date. For more information\, please visit www.cabarruscounty.us. 
URL:https://cabarrusartscouncil.org/event/make-the-friendship-bracelets-august-edition-har/
LOCATION:Harrisburg Library\, 201 Sims Pkwy\, Harrisburg\, 28075\, United States
CATEGORIES:Crafts,Library Activity
END:VEVENT
BEGIN:VEVENT
DTSTART;TZID=America/New_York:20250716T180000
DTEND;TZID=America/New_York:20250716T190000
DTSTAMP:20260424T045647
CREATED:20250402T204238Z
LAST-MODIFIED:20250515T150645Z
UID:3786-1752688800-1752692400@cabarrusartscouncil.org
SUMMARY:Art on the Go: Collage Drawing
DESCRIPTION:In partnership with the Cabarrus County Libraries\, the Cabarrus Arts Council will provide 12 art sessions across 6 library branches as part of our Art on the Go initiative for Adults in the Summer of 2025. \nCollage Drawing is a wonderful introduction to artmaking using pre-existing materials. Taking inspiration from Nature\, participants will be guided through and introduced to collage techniques working with materials such as magazine cutouts\, found objects\, and plants. No Drawing or collage experience is necessary. All materials included. \nClick here to find and register for the Art on the Go you’d like to attend. If registration isn’t available yet\, it’s coming soon! \n  \nArt on the Go is sponsored by Duke Energy  and Pinnacle Financial Partners.
URL:https://cabarrusartscouncil.org/event/art-on-the-go-collage-drawing-4/
LOCATION:Kannapolis Library\, 850 Mountain St\, Kannapolis\, NC\, 28081\, United States
CATEGORIES:Art on the Go,CAC Event,Crafts
ATTACH;FMTTYPE=image/png:https://cabarrusartscouncil.org/wp-content/uploads/2025/04/Website-Events-Calendar-Featured-Images-4.png
ORGANIZER;CN="Cabarrus Arts Council":MAILTO:info@cabarrusartscouncil.org
END:VEVENT
BEGIN:VEVENT
DTSTART;TZID=America/New_York:20250718T160000
DTEND;TZID=America/New_York:20250718T170000
DTSTAMP:20260424T045647
CREATED:20250703T192004Z
LAST-MODIFIED:20250703T192004Z
UID:4711-1752854400-1752858000@cabarrusartscouncil.org
SUMMARY:Stained Glass Bookmarks (KAN)
DESCRIPTION:Create a way to keep your place in your next favorite read with a fun bookmark made to look like a stained-glass window! No registration. For more information\, please visit  www.cabarruscounty.us.com. 
URL:https://cabarrusartscouncil.org/event/stained-glass-bookmarks-kan/
LOCATION:Kannapolis Library\, 850 Mountain St\, Kannapolis\, NC\, 28081\, United States
CATEGORIES:Library Activity
ATTACH;FMTTYPE=image/png:https://cabarrusartscouncil.org/wp-content/uploads/2025/06/Art-in-the-DARK-5-e1751570393204.png
END:VEVENT
BEGIN:VEVENT
DTSTART;TZID=America/New_York:20250719T150000
DTEND;TZID=America/New_York:20250719T170000
DTSTAMP:20260424T045647
CREATED:20250708T132439Z
LAST-MODIFIED:20250716T151936Z
UID:4714-1752937200-1752944400@cabarrusartscouncil.org
SUMMARY:Mini Canvas Painting (KAN)
DESCRIPTION:Ages 12-18 – Come join us in painting a cute and simple animal painting! No registration.  For more information\, please visit www.cabarruscounty.us. 
URL:https://cabarrusartscouncil.org/event/mini-canvas-painting-kan-2/
LOCATION:NC
CATEGORIES:Library Activity
ATTACH;FMTTYPE=image/png:https://cabarrusartscouncil.org/wp-content/uploads/2025/07/iPhone-Photograhy-2.png
END:VEVENT
BEGIN:VEVENT
DTSTART;TZID=America/New_York:20250721T180000
DTEND;TZID=America/New_York:20250721T190000
DTSTAMP:20260424T045647
CREATED:20250402T204420Z
LAST-MODIFIED:20250515T150656Z
UID:3788-1753120800-1753124400@cabarrusartscouncil.org
SUMMARY:Art on the Go: Collage Drawing
DESCRIPTION:In partnership with the Cabarrus County Libraries\, the Cabarrus Arts Council will provide 12 art sessions across 6 library branches as part of our Art on the Go initiative for Adults in the Summer of 2025. \nCollage Drawing is a wonderful introduction to artmaking using pre-existing materials. Taking inspiration from Nature\, participants will be guided through and introduced to collage techniques working with materials such as magazine cutouts\, found objects\, and plants. No Drawing or collage experience is necessary. All materials included. \nClick here to find and register for the Art on the Go you’d like to attend. If registration isn’t available yet\, it’s coming soon! \n  \nArt on the Go is sponsored by Duke Energy  and Pinnacle Financial Partners.
URL:https://cabarrusartscouncil.org/event/art-on-the-go-collage-drawing-5/
LOCATION:Harrisburg Library\, 201 Sims Pkwy\, Harrisburg\, 28075\, United States
CATEGORIES:Art on the Go,CAC Event,Crafts
ATTACH;FMTTYPE=image/png:https://cabarrusartscouncil.org/wp-content/uploads/2025/04/Website-Events-Calendar-Featured-Images-4.png
ORGANIZER;CN="Cabarrus Arts Council":MAILTO:info@cabarrusartscouncil.org
END:VEVENT
BEGIN:VEVENT
DTSTART;TZID=America/New_York:20250722T180000
DTEND;TZID=America/New_York:20250722T190000
DTSTAMP:20260424T045647
CREATED:20250708T132735Z
LAST-MODIFIED:20250708T132735Z
UID:4716-1753207200-1753210800@cabarrusartscouncil.org
SUMMARY:Resistance Watercolor Painting (MID)
DESCRIPTION:Adults – Unleash your inner artist! In this unique program\, we will use a simple resistance technique to create bold\, vibrant designs. For more information\, please visit www.cabarruscounty.us. 
URL:https://cabarrusartscouncil.org/event/resistance-watercolor-painting-mid/
LOCATION:Midland Library\, 4297 NC-24 27 C\, Midland\, NC\, 28107\, United States
CATEGORIES:Library Activity
ATTACH;FMTTYPE=image/png:https://cabarrusartscouncil.org/wp-content/uploads/2025/06/Art-in-the-DARK-10.png
END:VEVENT
BEGIN:VEVENT
DTSTART;TZID=America/New_York:20250723T180000
DTEND;TZID=America/New_York:20250723T190000
DTSTAMP:20260424T045647
CREATED:20250402T204551Z
LAST-MODIFIED:20250515T150708Z
UID:3790-1753293600-1753297200@cabarrusartscouncil.org
SUMMARY:Art on the Go: Collage Drawing
DESCRIPTION:In partnership with the Cabarrus County Libraries\, the Cabarrus Arts Council will provide 12 art sessions across 6 library branches as part of our Art on the Go initiative for Adults in the Summer of 2025. \nCollage Drawing is a wonderful introduction to artmaking using pre-existing materials. Taking inspiration from Nature\, participants will be guided through and introduced to collage techniques working with materials such as magazine cutouts\, found objects\, and plants. No Drawing or collage experience is necessary. All materials included. \nClick here to find and register for the Art on the Go you’d like to attend. If registration isn’t available yet\, it’s coming soon! \n  \nArt on the Go is sponsored by Duke Energy  and Pinnacle Financial Partners.
URL:https://cabarrusartscouncil.org/event/art-on-the-go-collage-drawing-6/
LOCATION:Afton Ridge Library\, 6095 Glen Afton Boulevard\, Kannapolis\, NC\, 28027\, United States
CATEGORIES:Art on the Go,CAC Event,Crafts
ATTACH;FMTTYPE=image/png:https://cabarrusartscouncil.org/wp-content/uploads/2025/04/Website-Events-Calendar-Featured-Images-4.png
ORGANIZER;CN="Cabarrus Arts Council":MAILTO:info@cabarrusartscouncil.org
END:VEVENT
BEGIN:VEVENT
DTSTART;TZID=America/New_York:20250728T160000
DTEND;TZID=America/New_York:20250728T170000
DTSTAMP:20260424T045647
CREATED:20250715T143141Z
LAST-MODIFIED:20250716T151653Z
UID:4803-1753718400-1753722000@cabarrusartscouncil.org
SUMMARY:Crafter's Corner: Paint Stick Flags
DESCRIPTION:Adult – Join us this month to craft decorative flags using paint stirring sticks.
URL:https://cabarrusartscouncil.org/event/4803/
LOCATION:Mount Pleasant Library & Active Living Center\, 1111 North Washington Street\, Mt. Pleasant\, NC\, 28124\, United States
CATEGORIES:Library Activity
ATTACH;FMTTYPE=image/png:https://cabarrusartscouncil.org/wp-content/uploads/2025/07/iPhone-Photograhy-1.png
END:VEVENT
BEGIN:VEVENT
DTSTART;TZID=America/New_York:20250728T173000
DTEND;TZID=America/New_York:20250728T183000
DTSTAMP:20260424T045647
CREATED:20250715T143406Z
LAST-MODIFIED:20250716T151159Z
UID:4808-1753723800-1753727400@cabarrusartscouncil.org
SUMMARY:Watercolor Painting for Adults (HAR)
DESCRIPTION:18+ – Unleash your inner artist! In this unique program we will use a simple resistance technique to create bold\, vibrant designs. No registration.
URL:https://cabarrusartscouncil.org/event/watercolor-painting-for-adults-har/
LOCATION:Harrisburg Library\, 201 Sims Pkwy\, Harrisburg\, 28075\, United States
CATEGORIES:Library Activity
ATTACH;FMTTYPE=image/png:https://cabarrusartscouncil.org/wp-content/uploads/2025/06/Art-in-the-DARK-10.png
END:VEVENT
BEGIN:VEVENT
DTSTART;TZID=America/New_York:20250729T093000
DTEND;TZID=America/New_York:20250729T103000
DTSTAMP:20260424T045647
CREATED:20250715T143611Z
LAST-MODIFIED:20250715T143611Z
UID:4810-1753781400-1753785000@cabarrusartscouncil.org
SUMMARY:Porkchop Productions: “The Tortoise and the Hare!” (HAR)
DESCRIPTION:Family – Start your engines! The race is on in our reimagined fable of “The Tortoise and the Hare”. This performance is one you won’t want to miss with colorful characters\, laugh-out-loud humor and valuable lessons in triumph and defeat—See you at the finish line! No registration.
URL:https://cabarrusartscouncil.org/event/porkchop-productions-the-tortoise-and-the-hare-har/
LOCATION:Harrisburg Library\, 201 Sims Pkwy\, Harrisburg\, 28075\, United States
CATEGORIES:Library Activity
END:VEVENT
BEGIN:VEVENT
DTSTART;TZID=America/New_York:20250729T150000
DTEND;TZID=America/New_York:20250729T160000
DTSTAMP:20260424T045647
CREATED:20250715T143828Z
LAST-MODIFIED:20250716T145246Z
UID:4812-1753801200-1753804800@cabarrusartscouncil.org
SUMMARY:Women Artists (KAN)
DESCRIPTION:Ages 6-11 – Come join us as we learn about some amazing women artists you might not have heard about! We’ll learn their stories and make some artwork inspired by them. No registration.
URL:https://cabarrusartscouncil.org/event/women-artists-kan/
LOCATION:Kannapolis Library\, 850 Mountain St\, Kannapolis\, NC\, 28081\, United States
CATEGORIES:Library Activity
ATTACH;FMTTYPE=image/png:https://cabarrusartscouncil.org/wp-content/uploads/2025/06/Art-in-the-DARK-4.png
END:VEVENT
BEGIN:VEVENT
DTSTART;TZID=America/New_York:20250729T180000
DTEND;TZID=America/New_York:20250729T190000
DTSTAMP:20260424T045647
CREATED:20250715T143947Z
LAST-MODIFIED:20250716T165614Z
UID:4815-1753812000-1753815600@cabarrusartscouncil.org
SUMMARY:Living Color (AFT)
DESCRIPTION:Ages 6-11 – The palette of the animal kingdom includes almost every imaginable color! We’ll use games and a craft to explore all the ways creatures use their colors and patterns. No registration. www.cabarruscounty.us
URL:https://cabarrusartscouncil.org/event/living-color-aft/
LOCATION:Afton Ridge Library\, 6095 Glen Afton Boulevard\, Kannapolis\, NC\, 28027\, United States
CATEGORIES:Library Activity
ATTACH;FMTTYPE=image/png:https://cabarrusartscouncil.org/wp-content/uploads/2025/07/iPhone-Photograhy-3.png
END:VEVENT
BEGIN:VEVENT
DTSTART;TZID=America/New_York:20250730T113000
DTEND;TZID=America/New_York:20250730T123000
DTSTAMP:20260424T045647
CREATED:20250715T144113Z
LAST-MODIFIED:20250716T150408Z
UID:4817-1753875000-1753878600@cabarrusartscouncil.org
SUMMARY:Art in the Dark (MTP)
DESCRIPTION:Ages 6-11 – Explore the world of art through the lens of the dark and nighttime! Answer questions like how do glow sticks work and why do stars shine in the dark\, get your own glow stick bracelet\, and make a Cozy Mini Mason Jar Night Light to take home! No registration.
URL:https://cabarrusartscouncil.org/event/art-in-the-dark-mtp/
LOCATION:Mount Pleasant Library\, 1111 Washington St\, Mt Pleasant\, 28124\, United States
CATEGORIES:Library Activity
ATTACH;FMTTYPE=image/png:https://cabarrusartscouncil.org/wp-content/uploads/2025/06/Art-in-the-DARK-e1751564235645.png
END:VEVENT
BEGIN:VEVENT
DTSTART;TZID=America/New_York:20250730T160000
DTEND;TZID=America/New_York:20250730T170000
DTSTAMP:20260424T045647
CREATED:20250715T144212Z
LAST-MODIFIED:20250716T191628Z
UID:4819-1753891200-1753894800@cabarrusartscouncil.org
SUMMARY:DIY Friendship Keychains (KAN)
DESCRIPTION:Ages 12-18 – Come join us in making a cute keychain that you can share with a friend! No registration.
URL:https://cabarrusartscouncil.org/event/diy-friendship-keychains-kan/
LOCATION:Kannapolis Library\, 850 Mountain St\, Kannapolis\, NC\, 28081\, United States
CATEGORIES:Library Activity
ATTACH;FMTTYPE=image/png:https://cabarrusartscouncil.org/wp-content/uploads/2025/07/iPhone-Photograhy-5.png
END:VEVENT
BEGIN:VEVENT
DTSTART;TZID=America/New_York:20250731T160000
DTEND;TZID=America/New_York:20250731T170000
DTSTAMP:20260424T045647
CREATED:20250715T144330Z
LAST-MODIFIED:20250715T144330Z
UID:4821-1753977600-1753981200@cabarrusartscouncil.org
SUMMARY:Mini Masterpieces Series (MTP)
DESCRIPTION:Ages 6-11 – Learn about famous artists and create your own masterpiece!
URL:https://cabarrusartscouncil.org/event/mini-masterpieces-series-mtp/
LOCATION:Mount Pleasant Library\, 1111 Washington St\, Mt Pleasant\, 28124\, United States
CATEGORIES:Library Activity
END:VEVENT
BEGIN:VEVENT
DTSTART;TZID=America/New_York:20250801T193000
DTEND;TZID=America/New_York:20250801T210000
DTSTAMP:20260424T045647
CREATED:20250703T150559Z
LAST-MODIFIED:20250710T181824Z
UID:4688-1754076600-1754082000@cabarrusartscouncil.org
SUMMARY:Black Charlotte
DESCRIPTION:Spoken Work & Music – Fifteen poets reflect on Black history\, neighborhoods\, and voices in Charlotte through a powerful\, groundbreaking album of poetry and music. Join us for an evening of celebration & storytelling that honors the past while imagining the future of home. \nLearn More
URL:https://cabarrusartscouncil.org/event/black-charlotte/
LOCATION:Davis Theatre\, 65 Union St S\, Concord\, NC\, 28025\, United States
CATEGORIES:CAC Event,Live Performance
ATTACH;FMTTYPE=image/jpeg:https://cabarrusartscouncil.org/wp-content/uploads/2025/07/BlackCharlotte-Website-Banner-2025.jpg
ORGANIZER;CN="Cabarrus Arts Council":MAILTO:info@cabarrusartscouncil.org
END:VEVENT
BEGIN:VEVENT
DTSTART;TZID=America/New_York:20250802T110000
DTEND;TZID=America/New_York:20250802T160000
DTSTAMP:20260424T045647
CREATED:20250703T151513Z
LAST-MODIFIED:20250717T122759Z
UID:4690-1754132400-1754150400@cabarrusartscouncil.org
SUMMARY:"Walking Through Light" Closing Receptions
DESCRIPTION:This is your last chance to explore the work of Karina Hean and Michael F O’Neill on display in The Galleries. Concessions available for purchase.
URL:https://cabarrusartscouncil.org/event/walking-through-light-closing-receptions/
LOCATION:The Galleries\, 65 Union St S\, Concord\, NC\, 28025\, United States
CATEGORIES:CAC Event
ATTACH;FMTTYPE=image/jpeg:https://cabarrusartscouncil.org/wp-content/uploads/2025/04/DSC01858-Pano-3.jpg
ORGANIZER;CN="Cabarrus Arts Council":MAILTO:info@cabarrusartscouncil.org
END:VEVENT
BEGIN:VEVENT
DTSTART;TZID=America/New_York:20250804T100000
DTEND;TZID=America/New_York:20250804T110000
DTSTAMP:20260424T045647
CREATED:20250715T144452Z
LAST-MODIFIED:20250715T144452Z
UID:4823-1754301600-1754305200@cabarrusartscouncil.org
SUMMARY:Coffee and Crafting (CON)
DESCRIPTION:Free – Adult – Start your week off right\, with coffee and a craft at the Concord Library. This month’s craft we’ll create paper art that mimics quilting work. Adults only. Registration required.
URL:https://cabarrusartscouncil.org/event/coffee-and-crafting-con/
LOCATION:Concord Library\, 27 Union St N\, Concord\, Concord\, NC\, 28025\, United States
CATEGORIES:Library Activity
END:VEVENT
BEGIN:VEVENT
DTSTART;TZID=America/New_York:20250805T160000
DTEND;TZID=America/New_York:20250805T170000
DTSTAMP:20260424T045647
CREATED:20250715T144554Z
LAST-MODIFIED:20250715T144554Z
UID:4825-1754409600-1754413200@cabarrusartscouncil.org
SUMMARY:Egg Carton Flower Bouquets (MTP)
DESCRIPTION:Ages 12-17 – Curious about turning everyday items into something beautiful? Join us and learn how to craft a flower bouquet using recycled egg cartons! No registration.
URL:https://cabarrusartscouncil.org/event/egg-carton-flower-bouquets-mtp/
LOCATION:Mount Pleasant Library\, 1111 Washington St\, Mt Pleasant\, 28124\, United States
CATEGORIES:Library Activity
END:VEVENT
BEGIN:VEVENT
DTSTART;TZID=America/New_York:20250805T163000
DTEND;TZID=America/New_York:20250805T180000
DTSTAMP:20260424T045647
CREATED:20250715T144712Z
LAST-MODIFIED:20250715T144712Z
UID:4827-1754411400-1754416800@cabarrusartscouncil.org
SUMMARY:Teen Collage Vision Board (CON)
DESCRIPTION:Teens (Ages 10-18) – Where do you see yourself this year? Next year? Come join us to piece together what you want your future to look like! No registration.
URL:https://cabarrusartscouncil.org/event/teen-collage-vision-board-con/
LOCATION:Concord Library\, 27 Union St N\, Concord\, Concord\, NC\, 28025\, United States
CATEGORIES:Library Activity
END:VEVENT
BEGIN:VEVENT
DTSTART;TZID=America/New_York:20250809T110000
DTEND;TZID=America/New_York:20250809T130000
DTSTAMP:20260424T045647
CREATED:20250701T131146Z
LAST-MODIFIED:20250701T131146Z
UID:4671-1754737200-1754744400@cabarrusartscouncil.org
SUMMARY:CAC Volunteer Opportunity Fair
DESCRIPTION:Make new friends and learn more about the innerworkings of an arts organization and how YOU can help as a volunteer. Snacks provided. Ages 16+; FREE; 65 Union St. S\, Concord. For more information or to RSVP\, email info@cabarrusartscouncil.org or call the Cabarrus Arts Council at 704-920-2787.
URL:https://cabarrusartscouncil.org/event/cac-volunteer-opportunity-fair/
LOCATION:Cabarrus Arts Council\, 65 Union St S\, Concord\, NC\, 28025\, United States
CATEGORIES:CAC Event
ATTACH;FMTTYPE=image/jpeg:https://cabarrusartscouncil.org/wp-content/uploads/2025/07/August-2025-Vol-Opp-Fair.jpg
ORGANIZER;CN="Cabarrus Arts Council":MAILTO:info@cabarrusartscouncil.org
END:VEVENT
BEGIN:VEVENT
DTSTART;TZID=America/New_York:20250811T183000
DTEND;TZID=America/New_York:20250811T193000
DTSTAMP:20260424T045647
CREATED:20250715T144819Z
LAST-MODIFIED:20250715T144819Z
UID:4829-1754937000-1754940600@cabarrusartscouncil.org
SUMMARY:Pour Decisions (MTP)
DESCRIPTION:Ages 18+ – Bring a friend and join us to paint pour a small vase with a matching canvas while enjoying light festive refreshments. Sponsored by the Friends of the Mt Pleasant Library. No registration required.
URL:https://cabarrusartscouncil.org/event/pour-decisions-mtp/
LOCATION:Mount Pleasant Library & Active Living Center\, 1111 North Washington Street\, Mt. Pleasant\, NC\, 28124\, United States
CATEGORIES:Library Activity
END:VEVENT
BEGIN:VEVENT
DTSTART;TZID=America/New_York:20250823T080000
DTEND;TZID=America/New_York:20251004T170000
DTSTAMP:20260424T045647
CREATED:20250617T195031Z
LAST-MODIFIED:20250617T195032Z
UID:4637-1755936000-1759597200@cabarrusartscouncil.org
SUMMARY:Postcard Project
DESCRIPTION:
URL:https://cabarrusartscouncil.org/event/postcard-project/
LOCATION:Cabarrus Arts Council\, 65 Union St S\, Concord\, NC\, 28025\, United States
ATTACH;FMTTYPE=image/png:https://cabarrusartscouncil.org/wp-content/uploads/2025/06/PostcardProjectLogo.png
END:VEVENT
BEGIN:VEVENT
DTSTART;TZID=America/New_York:20250823T100000
DTEND;TZID=America/New_York:20251004T170000
DTSTAMP:20260424T045647
CREATED:20250617T194843Z
LAST-MODIFIED:20250911T144921Z
UID:4635-1755943200-1759597200@cabarrusartscouncil.org
SUMMARY:100 Day Project
DESCRIPTION:Explore the work of CHD:WCK! \nOften\, the hardest parts are starting and staying Consistent. \nWe often dream of doing big things\, but it’s easy to get overwhelmed. \nThe truth is\, you don’t have to take on something huge to see meaningful change. \nSmall\, steady effort creates movement. Always. \nLast year\, CHD:WCK! committed to a simple practice: a few small works each day\, for 100 days. \nWith a few loose parameters and a lot of curiosity\, he showed up daily — trusting that one small thing\, done consistently\, could turn into something much bigger.
URL:https://cabarrusartscouncil.org/event/100-day-project/
LOCATION:Cabarrus Arts Council\, 65 Union St S\, Concord\, NC\, 28025\, United States
ATTACH;FMTTYPE=image/png:https://cabarrusartscouncil.org/wp-content/uploads/2025/08/100DayProject-Exhibition-Website-Header.png
ORGANIZER;CN="Cabarrus Arts Council":MAILTO:info@cabarrusartscouncil.org
END:VEVENT
BEGIN:VEVENT
DTSTART;TZID=America/New_York:20250823T193000
DTEND;TZID=America/New_York:20250823T213000
DTSTAMP:20260424T045647
CREATED:20250716T133732Z
LAST-MODIFIED:20250716T133732Z
UID:4831-1755977400-1755984600@cabarrusartscouncil.org
SUMMARY:Unspoken Tradition
DESCRIPTION:Mountain Home Recording Artist Unspoken Tradition is about new\, original bluegrass. Inspired by their own influences and the roots of traditional and newgrass music\, this North Carolina based quintet brings a sound that is both impassioned and nostalgic\, hard-driving and sincere. Recent singles have charted in the Bluegrass Today top 5 including three songs to hit the #1 spot   “California”\, “Darkside Of The Mountain” \, and in January of 2024\, “Weed’s Don’t Wither” \nTheir material is mostly original and reflects the ever-changing culture of Western and Central North Carolina where they call home. The band has earned a fervent following in the Southeast\, selling out shows in Asheville\, NC as well as the legendary Station Inn in Nashville\, TN. They have also performed twice on the coveted Watson (main stage) at MerleFest. With heavy airplay on Sirius XM’s Bluegrass Junction and ever-growing streaming numbers\, Unspoken Tradition is a fast-rising voice of a new generation of roots music artists.
URL:https://cabarrusartscouncil.org/event/unspoken-tradition/
LOCATION:Davis Theatre\, 65 Union St S\, Concord\, NC\, 28025\, United States
CATEGORIES:CAC Event,Live Performance
ATTACH;FMTTYPE=image/png:https://cabarrusartscouncil.org/wp-content/uploads/2025/07/UnspokenTradition2025.png
ORGANIZER;CN="Cabarrus Arts Council":MAILTO:info@cabarrusartscouncil.org
END:VEVENT
BEGIN:VEVENT
DTSTART;TZID=America/New_York:20250828T180000
DTEND;TZID=America/New_York:20250828T200000
DTSTAMP:20260424T045647
CREATED:20250815T162241Z
LAST-MODIFIED:20250815T162241Z
UID:4969-1756404000-1756411200@cabarrusartscouncil.org
SUMMARY:Paint & Sip at Cabarrus Brewing Company
DESCRIPTION:Join us for a creative night out at Cabarrus Brewing! You’ll paint a Mystic Moon on a 14×14 canvas with a dre-drawn design and step-by-step instruction—perfect for beginners and seasoned painters alike. Whether you’re coming with friends\, enjoying a date night\, or flying solo\, it’s a great way to relax\, sip\, and paint something lovely. Tickets Required – Tickets cost: $45 Your ticket includes: All painting supplies and instruction\, A drink ticket good for your choice of beer\, cider\, wine\, or a non-alcoholic beverage Come early to grab a bite to eat and settle in—we’ll provide everything you need for a fun and colorful evening! August 28th\, 6pm-8pm in The Mezzanine at Cabarrus Brewing Company! Use this link to buy your ticket! www.cabarrusbrewing.com/event/paint-sip/
URL:https://cabarrusartscouncil.org/event/paint-sip-at-cabarrus-brewing-company/
LOCATION:Cabarrus Brewing Company\, 329 Mcgill Ave NW\, Concord\, North Carolina\, 28027
CATEGORIES:Crafts
ATTACH;FMTTYPE=image/jpeg:https://cabarrusartscouncil.org/wp-content/uploads/2025/08/Paint-Sip-CBC.jpg
ORGANIZER;CN="Cabarrus Brewing Company":MAILTO:info@cabarrusbrewing.com
END:VEVENT
BEGIN:VEVENT
DTSTART;TZID=America/New_York:20250829T160000
DTEND;TZID=America/New_York:20250829T160000
DTSTAMP:20260424T045647
CREATED:20250829T184101Z
LAST-MODIFIED:20250829T184101Z
UID:5020-1756483200-1756483200@cabarrusartscouncil.org
SUMMARY:Living Room Reading Series: The Boys in the Band
DESCRIPTION:Jonathan Ewart\, Director and Producer of the Living Room Reading Series\, is excited to bring the series back to OCT and the Wilson Family Black Box Theatre for its 15th Season.    The Series has planned a series of 9 readings for its Crystal Season. The events are held at 4 pm in The Wilson Family Black Box Theatre.   Jonathan covers the cost of each production so that all proceeds benefit Old Courthouse Theatre.    There is no set admission charge.     Concessions are available.   Mr. Ewart states that the Crystal season consists of nine award winning plays.  The Boys in the Band written by Mart Crowley.  Synopsis:  In his Upper East Side apartment\, Michael is throwing a birthday party for Harold\, As the evening wears on – fueled by drugs and alcohol – bitter\, unresolved resentments among the guests come to light when a game of “Truth” goes terribly wrong. Winner of the 2018 Tony Award for Best Revival of a Play. The Boys in the Band\, is a Samuel French Title and is produced by an agreement with Concord Theatricals. For more information\, please visit www.octconcord.com. 
URL:https://cabarrusartscouncil.org/event/living-room-reading-series-the-boys-in-the-band/
LOCATION:Old Courthouse Theatre\, 49 Spring St NW Concord\, NC 28025\, Concord\, NC\, 28025\, United States
CATEGORIES:Live Performance
ATTACH;FMTTYPE=image/webp:https://cabarrusartscouncil.org/wp-content/uploads/2025/08/living-room-reading-series-logo-279285d1-1920w.webp
ORGANIZER;CN="Old Courthouse Theatre":MAILTO:info@octconcord.com
END:VEVENT
BEGIN:VEVENT
DTSTART;TZID=America/New_York:20250904T160000
DTEND;TZID=America/New_York:20250904T170000
DTSTAMP:20260424T045647
CREATED:20250829T151514Z
LAST-MODIFIED:20250829T151514Z
UID:5009-1757001600-1757005200@cabarrusartscouncil.org
SUMMARY:Kid Crafters Corner (MTP)
DESCRIPTION:Make a fun\, easy patchwork acorn that will be displayed all month long\, right here in the library! No registration. For more information\, please visit www.cabarruscounty.us. 
URL:https://cabarrusartscouncil.org/event/kid-crafters-corner-mtp/
LOCATION:Mt. Pleasant Library\, 1111 North Washington Street\, Mt. Pleasant\, NC\, 28124\, United States
CATEGORIES:Crafts,Library Activity
ATTACH;FMTTYPE=image/png:https://cabarrusartscouncil.org/wp-content/uploads/2025/08/iPhone-Photograhy-6.png
END:VEVENT
BEGIN:VEVENT
DTSTART;TZID=America/New_York:20250904T170000
DTEND;TZID=America/New_York:20250904T190000
DTSTAMP:20260424T045647
CREATED:20250829T153349Z
LAST-MODIFIED:20250829T153349Z
UID:5014-1757005200-1757012400@cabarrusartscouncil.org
SUMMARY:DIY Notebooks (HAR)
DESCRIPTION:Ages 12-18 – Want to jazz up your stationary stash? Tired of getting your notebooks mixed up with your peers? Such things are a thing of the past with a little personal touch! Come and decorate a notebook to take home! No Registration. For more information\, please visit www.cabarruscounty.us. 
URL:https://cabarrusartscouncil.org/event/diy-notebooks-har/
LOCATION:Harrisburg Library\, 201 Sims Pkwy\, Harrisburg\, 28075\, United States
CATEGORIES:Crafts,Library Activity
ATTACH;FMTTYPE=image/png:https://cabarrusartscouncil.org/wp-content/uploads/2025/08/iPhone-Photograhy-7.png
END:VEVENT
END:VCALENDAR