BEGIN:VCALENDAR
VERSION:2.0
PRODID:-//Cabarrus Arts Council - ECPv6.15.12.2//NONSGML v1.0//EN
CALSCALE:GREGORIAN
METHOD:PUBLISH
X-ORIGINAL-URL:https://cabarrusartscouncil.org
X-WR-CALDESC:Events for Cabarrus Arts Council
REFRESH-INTERVAL;VALUE=DURATION:PT1H
X-Robots-Tag:noindex
X-PUBLISHED-TTL:PT1H
BEGIN:VTIMEZONE
TZID:America/New_York
BEGIN:DAYLIGHT
TZOFFSETFROM:-0500
TZOFFSETTO:-0400
TZNAME:EDT
DTSTART:20240310T070000
END:DAYLIGHT
BEGIN:STANDARD
TZOFFSETFROM:-0400
TZOFFSETTO:-0500
TZNAME:EST
DTSTART:20241103T060000
END:STANDARD
BEGIN:DAYLIGHT
TZOFFSETFROM:-0500
TZOFFSETTO:-0400
TZNAME:EDT
DTSTART:20250309T070000
END:DAYLIGHT
BEGIN:STANDARD
TZOFFSETFROM:-0400
TZOFFSETTO:-0500
TZNAME:EST
DTSTART:20251102T060000
END:STANDARD
BEGIN:DAYLIGHT
TZOFFSETFROM:-0500
TZOFFSETTO:-0400
TZNAME:EDT
DTSTART:20260308T070000
END:DAYLIGHT
BEGIN:STANDARD
TZOFFSETFROM:-0400
TZOFFSETTO:-0500
TZNAME:EST
DTSTART:20261101T060000
END:STANDARD
END:VTIMEZONE
BEGIN:VEVENT
DTSTART;TZID=America/New_York:20250321T193000
DTEND;TZID=America/New_York:20250321T193000
DTSTAMP:20260424T163242
CREATED:20250220T192028Z
LAST-MODIFIED:20250224T190205Z
UID:3368-1742585400-1742585400@cabarrusartscouncil.org
SUMMARY:Brass Queens
DESCRIPTION:Brass Queens has developed a signature sound that sits right at the intersection of the Big Apple and the Big Easy: their music is deeply inspired by and pays homage to the New Orleans brass band tradition while injecting the upbeat\, multifaceted energy of their New York home into each performance. The result is a nonstop party: a Brass Queens show will have you singing along to classic pop hits\, dancing your heart out to reggaeton\, and feeling like you’ve been transported to Frenchman Street. In February 2021\, Brass Queens released their debut EP Royal Street on all streaming platforms\, and on October 27\, 2023 they released their first full-length album titled Black & Gold. \nThis is going to be a TON of fun! Imagine the Davis Theatre packed with incredible brass players\, a good funky drummer\, and all of YOU moving to the beat! We might not have Frenchman Street\, we don’t have subways and street performers too often\, but on March 21st Union St will be the place to catch that energy.
URL:https://cabarrusartscouncil.org/event/brass-queens/
LOCATION:Davis Theatre\, 65 Union St S\, Concord\, NC\, 28025\, United States
CATEGORIES:CAC Event,Live Performance
ATTACH;FMTTYPE=image/png:https://cabarrusartscouncil.org/wp-content/uploads/2025/02/brassQueens.png
ORGANIZER;CN="Cabarrus Arts Council":MAILTO:info@cabarrusartscouncil.org
END:VEVENT
END:VCALENDAR